BEGIN:VCALENDAR
VERSION:2.0
PRODID:-//Cantus Firmus - ECPv6.15.20//NONSGML v1.0//EN
CALSCALE:GREGORIAN
METHOD:PUBLISH
X-ORIGINAL-URL:https://cantusfirmus.be
X-WR-CALDESC:Évènements pour Cantus Firmus
REFRESH-INTERVAL;VALUE=DURATION:PT1H
X-Robots-Tag:noindex
X-PUBLISHED-TTL:PT1H
BEGIN:VTIMEZONE
TZID:Europe/Brussels
BEGIN:DAYLIGHT
TZOFFSETFROM:+0100
TZOFFSETTO:+0200
TZNAME:CEST
DTSTART:20200329T010000
END:DAYLIGHT
BEGIN:STANDARD
TZOFFSETFROM:+0200
TZOFFSETTO:+0100
TZNAME:CET
DTSTART:20201025T010000
END:STANDARD
BEGIN:DAYLIGHT
TZOFFSETFROM:+0100
TZOFFSETTO:+0200
TZNAME:CEST
DTSTART:20210328T010000
END:DAYLIGHT
BEGIN:STANDARD
TZOFFSETFROM:+0200
TZOFFSETTO:+0100
TZNAME:CET
DTSTART:20211031T010000
END:STANDARD
BEGIN:DAYLIGHT
TZOFFSETFROM:+0100
TZOFFSETTO:+0200
TZNAME:CEST
DTSTART:20220327T010000
END:DAYLIGHT
BEGIN:STANDARD
TZOFFSETFROM:+0200
TZOFFSETTO:+0100
TZNAME:CET
DTSTART:20221030T010000
END:STANDARD
BEGIN:DAYLIGHT
TZOFFSETFROM:+0100
TZOFFSETTO:+0200
TZNAME:CEST
DTSTART:20230326T010000
END:DAYLIGHT
BEGIN:STANDARD
TZOFFSETFROM:+0200
TZOFFSETTO:+0100
TZNAME:CET
DTSTART:20231029T010000
END:STANDARD
BEGIN:DAYLIGHT
TZOFFSETFROM:+0100
TZOFFSETTO:+0200
TZNAME:CEST
DTSTART:20240331T010000
END:DAYLIGHT
BEGIN:STANDARD
TZOFFSETFROM:+0200
TZOFFSETTO:+0100
TZNAME:CET
DTSTART:20241027T010000
END:STANDARD
BEGIN:DAYLIGHT
TZOFFSETFROM:+0100
TZOFFSETTO:+0200
TZNAME:CEST
DTSTART:20250330T010000
END:DAYLIGHT
BEGIN:STANDARD
TZOFFSETFROM:+0200
TZOFFSETTO:+0100
TZNAME:CET
DTSTART:20251026T010000
END:STANDARD
BEGIN:DAYLIGHT
TZOFFSETFROM:+0100
TZOFFSETTO:+0200
TZNAME:CEST
DTSTART:20260329T010000
END:DAYLIGHT
BEGIN:STANDARD
TZOFFSETFROM:+0200
TZOFFSETTO:+0100
TZNAME:CET
DTSTART:20261025T010000
END:STANDARD
END:VTIMEZONE
BEGIN:VEVENT
DTSTART;TZID=Europe/Brussels:20250925T200000
DTEND;TZID=Europe/Brussels:20250925T210000
DTSTAMP:20260421T135507
CREATED:20250909T185820Z
LAST-MODIFIED:20251125T081742Z
UID:1383-1758830400-1758834000@cantusfirmus.be
SUMMARY:OrgelFestival
DESCRIPTION:Orgelfestival Bornem 2de concert – donderdag 25 september 20u.\nTijdens het tweede concert van het Orgelfestival Bornem treedt het Brusselse dameskoor Cantus Firmus op samen met organiste Maria Vekilova. Op het programma staan koor- en orgelwerken van onder meer Gabriel Fauré en Francis Poulenc\, naast orgelmuziek van César Franck\, uitgevoerd in het hoogkoor van de abdij rond het indrukwekkende Vereecken-orgel (1891).\n\n\nInfo en tickets aan de kassa of via http://www.terdilft.be/…/maria-vekilova-dameskoor…
URL:https://cantusfirmus.be/agenda/orgelfestival/
LOCATION:Abbatiale de Bornem\, Kloosterstraat 71\, Bornem\, 2880\, Belgium
ATTACH;FMTTYPE=image/jpeg:https://cantusfirmus.be/wp-content/uploads/2025/09/Affiche-Bornem.jpg
END:VEVENT
BEGIN:VEVENT
DTSTART;TZID=Europe/Brussels:20250426T160000
DTEND;TZID=Europe/Brussels:20250426T170000
DTSTAMP:20260421T135507
CREATED:20250328T090408Z
LAST-MODIFIED:20250328T090713Z
UID:1328-1745683200-1745686800@cantusfirmus.be
SUMMARY:ECHO for Peace
DESCRIPTION:https://cantusfirmus.be/wp-content/uploads/2024/11/04-ANTOGNINI-Agnus-Dei.wav\nECHO for Peace \nCANTUS FIRMUS participe à l’événement organisé par ECHO (European Cities of Historical Organs) \n\n\n\n\n\nIn the weekend of April 25\, 26\, and 27\, ECHO is taking a stand against the senseless violence affecting our world. Without aligning with any political stance\, ECHO firmly chooses peace. Through 28 concerts in 12 European cities\, we aim to raise awareness of the countless innocent victims\, the destruction of homes and infrastructure\, and the devastating impact on cultural heritage. \nMusic has always been a powerful voice for change\, and during this special weekend\, organists\, musicians\, choirs\, and speakers will come together to inspire reflection. While we know our initiative cannot stop violence\, we believe that raising awareness is a crucial step toward a more peaceful future. \n\n\n\n\n\nChoeur Cassandra (Laurence Renson\, conductor)\nOlivier De Schutter\, lecturer\nMaria Vekilova\, organ\nBertrand Desmet\, cello\nChorale Royale Protestante (Laurent Fobelets\, conductor)\nFrançoise Tulkens\, lecturer\nMadeleine Cordez\, organ\nCantus Firmus (Hélène Richardeau\, conductor)\nCharlène Bertholet\, organ\nEquinox (Zeno Popescu\, conductor) \nFree entrance \n\n13:45: Cassandra Choir starts in the Jubilee Park\n14:00: Cassandra Choir\, dir. Laurence Renson\nSpeaker n°1 : Olivier De Schutter\, UN Special Rapporteur on extreme poverty and human rights\nMaria Vekilova\, organ\, and Bertrand Desmet\, cello\n15:00: Chorale Royale Protestante\, dir. Laurent Fobelets\nSpeaker n°2 : Françoise Tulkens\, former vice-president of the European Court of Human Rights\nNN\, organ\n16:00: Cantus Firmus\, dir Hélène Richardeau\nSpeaker n°3 : Carine Thibaut\, general director Amnesty International Belgium FR\nCharlène Berthelot\, organ\n17:00: Equinox\, dir. Zeno Popescu\nColette Braeckman\, Belgian journalist and Africa expert\nChamber music ensemble of the Conservatoire Royal de Musique de Bruxelles\nBernard Foccroulle\, organ\n18 :00 Conclusion by Lisette Ma Neza\, City Brussels poet (tbc)
URL:https://cantusfirmus.be/agenda/echo-for-peace/
LOCATION:Eglise des Dominicains de Bruxelles\, Avenue de la Renaissance 40\, Bruxelles\, 1000\, Belgium
ATTACH;FMTTYPE=image/jpeg:https://cantusfirmus.be/wp-content/uploads/2025/03/ECHO-for-peace.jpg
END:VEVENT
BEGIN:VEVENT
DTSTART;TZID=Europe/Brussels:20250404T200000
DTEND;TZID=Europe/Brussels:20250404T200000
DTSTAMP:20260421T135507
CREATED:20241102T142314Z
LAST-MODIFIED:20250310T150108Z
UID:1227-1743796800-1743796800@cantusfirmus.be
SUMMARY:Bach "Tilge\, Höchster\, meine Sünden"
DESCRIPTION:Cantus Firmus interprète cette oeuvre poignante de Bach. En effet\, lui qui n’a jamais quitté l’Allemagne prend connaissance de la partition du Stabat Mater de Pergolèse. Bouleversé par cette musique\, il décide d’en faire la transcription en allemand et d’adapter l’orchestration originale. Il en résulte un chef-d’oeuvre absolu où se mêlent les thématiques de l’adieu\, la souffrance\, la mort et le salut. Cantus Firmus met  en lumière la musique de Bach en intégrant des oeuvres contemporaines de musique chorale a cappella. Leurs voix féminines nous rappellent celle de la Vierge accompagnant le Christ dans sa Passion. \nJ-S BACH: Tilge\, Höchster\, meine Sünden BWV1083 \nJohn TAVENER: Song for Athene \nEva UGALDE: Miserere \nFrancis POULENC: Ave Verum Corpus \nMaurice DURUFLE: Tota pulchra es\, Maria \nOla GJEILO: Northern Lights \nCantus Firmus \nOrchestre à cordes sur instruments anciens \nHélène Richardeau: direction musicale
URL:https://cantusfirmus.be/agenda/bach-tilge-hochster-meine-sunden/
LOCATION:Abbaye Notre-Dame de La Cambre\, Abbaye de La Cambre\, Bruxelles\, 1000\, Belgium
ATTACH;FMTTYPE=image/jpeg:https://cantusfirmus.be/wp-content/uploads/2024/11/250404-Concert-BACH-CANTUS-3.jpg
END:VEVENT
BEGIN:VEVENT
DTSTART;TZID=Europe/Brussels:20250315T200000
DTEND;TZID=Europe/Brussels:20250315T213000
DTSTAMP:20260421T135507
CREATED:20241102T114647Z
LAST-MODIFIED:20250310T150451Z
UID:1220-1742068800-1742074200@cantusfirmus.be
SUMMARY:Concert à l'église St-Joseph de Waterloo
DESCRIPTION:Cantus Firmus vous invite à une expérience sonore dont vous ne sortirez pas indemne… Pour ce voyage hors du temps et des sentiers battus\, l’ensemble vous propose un programme original mêlant oeuvres chorales a cappella et oeuvres d’orgue. Osez la découverte\, laissez-vous séduire. \n  \nSamedi 15 mars – 20h – Eglise St-Joseph de Waterloo \nPAF : 15€ (prévente 13€) – 8€ pour les – de 18 ans
URL:https://cantusfirmus.be/agenda/concert-a-leglise-st-joseph-de-waterloo/
LOCATION:Eglise St-Joseph de Waterloo\, avenue Reine Astrid 11\, Waterloo\, 1410\, Belgium
ATTACH;FMTTYPE=image/jpeg:https://cantusfirmus.be/wp-content/uploads/2024/11/CF-240315-Affiche-concert-scaled.jpg
END:VEVENT
BEGIN:VEVENT
DTSTART;TZID=Europe/Brussels:20241214T200000
DTEND;TZID=Europe/Brussels:20241214T213000
DTSTAMP:20260421T135507
CREATED:20241102T112243Z
LAST-MODIFIED:20241102T112719Z
UID:1202-1734206400-1734211800@cantusfirmus.be
SUMMARY:Noël anglais
DESCRIPTION:Les Ceremony of Carols de Benjamin BRITTEN\, véritable chef-d’oeuvre du répertoire pour chœur à voix égales et harpe\, et pièces chorales a cappella. \nCantus Firmus\, ensemble vocal féminin \nHeleen Vandeputte\, harpe \nHélène Richardeau\, direction musicale \nSamedi 14 décembre – 20h – Eglise Notre-Dame de l’Assomption\, Place de Bossut\, 1390 Bossut \nPAF : 15€ / 10€ – de 26 ans\, + de 65 ans / gratuit -16 ans \nINFOS & RESERVATION : info@cantusfirmus.be
URL:https://cantusfirmus.be/agenda/noel-anglais-2/
LOCATION:Eglise Notre-Dame de Bossut-Gottechain\, Place de Bossut\, Bossut-Gottechain\, 1390\, Belgium
ATTACH;FMTTYPE=image/jpeg:https://cantusfirmus.be/wp-content/uploads/2024/11/CF-Affiche-concert-Noel-scaled.jpg
ORGANIZER;CN="Cantus Firmus":MAILTO:info@cantusfirmus.be
END:VEVENT
BEGIN:VEVENT
DTSTART;TZID=Europe/Brussels:20241117T170000
DTEND;TZID=Europe/Brussels:20241117T183000
DTSTAMP:20260421T135507
CREATED:20241102T111425Z
LAST-MODIFIED:20241102T113438Z
UID:1199-1731862800-1731868200@cantusfirmus.be
SUMMARY:Les Voix du Soleil
DESCRIPTION:HARPES EN VOYAGE & CANTUS FIRMUS vous emmènent dans un voyage musical plein de couleurs\, d’émotions\, de soleil\, de féminité. Laissez-vous séduire. \nGustav HOLST: Hymns from the Rig Veda op.26 \nAlisée Frippiat\, harpe & Cantus Firmus \n\nDimanche 17 novembre – 17h – Eglise Ste-Barbe de Rhode-St-Genèse\n\nPAF: 15€ – moins de 26 ans: 5€Infos: artsenchantes@gmail.com – 0493100711Réservations : Arts EnChantés asbl – BE95 5230 8155 5958
URL:https://cantusfirmus.be/agenda/les-voix-du-soleil-2/
LOCATION:Eglise Ste-Barbe de Rhode-St-Genèse\, rue du Hameau 184\, Rhode-St-Genèse\, 1640\, Belgium
ATTACH;FMTTYPE=image/jpeg:https://cantusfirmus.be/wp-content/uploads/2024/11/CF-Concert-harpe-et-choeur-7-scaled.jpg
END:VEVENT
BEGIN:VEVENT
DTSTART;TZID=Europe/Brussels:20241116T200000
DTEND;TZID=Europe/Brussels:20241116T213000
DTSTAMP:20260421T135507
CREATED:20241102T110521Z
LAST-MODIFIED:20241102T113235Z
UID:1194-1731787200-1731792600@cantusfirmus.be
SUMMARY:Les Voix du Soleil
DESCRIPTION:HARPES EN VOYAGE & CANTUS FIRMUS vous emmènent dans un voyage musical plein de couleurs\, d’émotions\, de soleil\, de féminité. Laissez-vous séduire. \nGustav HOLST: Hymns from the Rig Veda op.26 \nAlisée Frippiat\, harpe & Cantus Firmus \nSamedi 16 novembre – 20h – Eglise Ste-Anne d’Auderghem \n  \nHARPES EN VOYAGE – direction : Alisée Frippiat\, Jehanne Piret & Heleen Vandeputte \nCANTUS FIRMUS – ensemble vocal féminin – direction : Hélène Richardeau \nPAF: 15€ – moins de 26 ans: 5€\nInfos: artsenchantes@gmail.com – 0493100711\nRéservations : Arts EnChantés asbl – BE95 5230 8155 5958
URL:https://cantusfirmus.be/agenda/les-voix-du-soleil/
LOCATION:Eglise Ste-Anne d’Auderghem\, Chaussée de Tervueren\, Auderghem\, 1160\, Belgium
ATTACH;FMTTYPE=image/jpeg:https://cantusfirmus.be/wp-content/uploads/2024/11/CF-Concert-harpe-et-choeur-7-scaled.jpg
END:VEVENT
BEGIN:VEVENT
DTSTART;TZID=Europe/Brussels:20240601T180000
DTEND;TZID=Europe/Brussels:20240601T190000
DTSTAMP:20260421T135507
CREATED:20240210T144428Z
LAST-MODIFIED:20241103T162926Z
UID:986-1717264800-1717268400@cantusfirmus.be
SUMMARY:Namur en Chœurs | Festival choral international
DESCRIPTION:Cantus Firmus aura l’honneur de proposer un concert de prestige à l’occasion de la 6ème édition du festival choral international Namur en Chœurs. Tous vos sens seront mis en éveil dans un voyage à travers les musiques chorales pour chœur de femme à capella de Palestrina aux compositeurs.trices de nos jours. Laissez-vous surprendre. Frissons garantis ! \nProgramme: \n\nBudaï\,\nGjeilo\,\nEsenvalds\,\nBojesen\,\n…et bien d’autres encore !\n\nDurée: 1h10 \nArtiste(s) invité(s): Bertrand Desmet (violoncelle)
URL:https://cantusfirmus.be/agenda/namur-en-choeurs-festival-choral-international/
LOCATION:Église Saint-Loup\, Rue du Collège 17\, Namur\, Namur\, 5000\, Belgique
ATTACH;FMTTYPE=image/jpeg:https://cantusfirmus.be/wp-content/uploads/2024/02/Namur-en-choeurs.jpg
ORGANIZER;CN="Yohanne Bouche (coordinatrice du festival Namur en Ch%C5%93urs)":MAILTO:namurenchoeurs@acj.be
END:VEVENT
BEGIN:VEVENT
DTSTART;TZID=Europe/Brussels:20240317T160000
DTEND;TZID=Europe/Brussels:20240317T163000
DTSTAMP:20260421T135507
CREATED:20240210T142931Z
LAST-MODIFIED:20241103T162801Z
UID:981-1710691200-1710693000@cantusfirmus.be
SUMMARY:Academix
DESCRIPTION:Cantus Firmus participe à l’édition 2024 d’Academix. À cette occasion\, les élèves des académies de Flandre\, de la Wallonie et de la région de Bruxelles donnent le meilleur d’eux‑mêmes lors d’une journée placée sous le signe de la musique. \nProgramme: \n\nVier Gesaänge op. 17 de Johannes Brahms pour harpe et deux cors :\n\nEs tönt ein voller Harfenklang\nLied von Shakespeare\nDer Gärtner\nGesang aus Fingal\n\n\n\nDurée: 20 min \nArtiste(s) invité(e)(s):  \n\nAlisée Frippiat (harpe)\nFelix Foster (cor)\nPierre Baudhuin (cor)\n\nPAF: Les concerts sont accessibles librement. Cependant\, les places sont limitées\, veuillez donc vous asseoir à temps dans la salle. Vous pouvez vous voir refuser l’accès\, une fois la salle remplie.
URL:https://cantusfirmus.be/agenda/cantus-firmus-academix/
LOCATION:Flagey\, Place Sainte-Croix\, Bruxelles\, 1050\, Belgium
ATTACH;FMTTYPE=image/jpeg:https://cantusfirmus.be/wp-content/uploads/2024/11/DSC_0912-scaled.jpg
END:VEVENT
BEGIN:VEVENT
DTSTART;TZID=Europe/Brussels:20231217T160000
DTEND;TZID=Europe/Brussels:20231217T170000
DTSTAMP:20260421T135507
CREATED:20240210T145554Z
LAST-MODIFIED:20241103T162154Z
UID:992-1702828800-1702832400@cantusfirmus.be
SUMMARY:Noël Anglais
DESCRIPTION:Rejoignez Cantus Firmus à l’Eglise Saint -Martin de Leuze (Eghezée)\, 16h. L’ensemble vocal féminin Cantus Firmus accompagné par l’excellente harpiste Alisée Frippiat présente les Hymns from the Rig Veda de Gustav Holst ainsi que les Ceremony of Carols de Britten\, et d’autres bijoux du répertoire choral des XX et XXIème siècles. \nProgramme: \n\nHymns from the Rig Veda de Gustav Holst\nCeremony of Carols de Britten\n…et bien d’autres encore !\n\nDurée: 75 min \nArtiste(s) invité(e)(s): Alisée Frippiat (harpe) \nPAF :  \n\n18€\n15€ en prévente\ngratuit pour les moins de 12 ans
URL:https://cantusfirmus.be/agenda/noel-anglais/
LOCATION:Église Saint-Martin de Leuze\, Route de Namêche\, 13\, Eghezée\, 5310\, Belgique
ATTACH;FMTTYPE=image/jpeg:https://cantusfirmus.be/wp-content/uploads/2024/02/CF_Saint-Martin-de-Leuze_17.12.2023.jpg
ORGANIZER;CN="Leuze en Musique%2C Culture & Partimoine":MAILTO:genlaloux@gmail.com
END:VEVENT
BEGIN:VEVENT
DTSTART;TZID=Europe/Brussels:20231216T193000
DTEND;TZID=Europe/Brussels:20231216T203000
DTSTAMP:20260421T135507
CREATED:20240210T150748Z
LAST-MODIFIED:20241103T162044Z
UID:996-1702755000-1702758600@cantusfirmus.be
SUMMARY:Concert pour le Liban
DESCRIPTION:Bruxellois.es\, rejoignez Cantus Firmus pour un splendide concert en soutien de l’ONG AC Sauvel pour la sauvegarde de l’enfant au Liban. À cet occasion\, nous mettrons à l’honneur des textes et poèmes d’auteurs libanais\, en alternance avec un programme rassemblant Britten\, Holst et bien d’autres. \nVenez nombreux! \nProgramme:\n\n\nHymns from the Rig Veda de Gustav Holst\nCeremony of Carols de Britten\n…et bien d’autres encore !\n\nDurée: 75 min \nArtiste(s) invité(s): Alisée Frippiat (harpe) \n\nPAF: Entrée libre\, n’hésitez pas à faire un don à l’association (BE84 7320 4352 4759)\n\nOrganisé par le Rotary Cip Belux Liban \, en partenariat avec Ambassade du Liban à Bruxelles et au Luxembourg et la Société médicale Euro-libanaise.
URL:https://cantusfirmus.be/agenda/concert-pour-le-liban/
LOCATION:Église Notre-Dame des Victoires au Sablon\, Rue des Sablons\, Bruxelles\, Bruxelles\, 1000\, Belgique
ATTACH;FMTTYPE=image/jpeg:https://cantusfirmus.be/wp-content/uploads/2024/02/CF_NDduSablon_16.12.2023.jpg
ORGANIZER;CN="Le CIP BeLux-Liban du Rotary International":MAILTO:cip.belux.liban@gmail.com
END:VEVENT
BEGIN:VEVENT
DTSTART;TZID=Europe/Brussels:20231008T150000
DTEND;TZID=Europe/Brussels:20241103T163000
DTSTAMP:20260421T135507
CREATED:20241103T161304Z
LAST-MODIFIED:20241103T161341Z
UID:1309-1696777200-1730651400@cantusfirmus.be
SUMMARY:Festival Lettres en Voix - Concert de clôture - ACROSS THE WORLD
DESCRIPTION:Le Festival Lettres en Voix nous fait l’immense honneur de nous inviter pour chanter le concert de clôture du Festival le 8 octobre 2023 dans la splendide Eglise Notre-Dame du Sablon à Bruxelles. \nCantus Firmus propose un programme tout à  fait inédit Accross the World. \nLaissez-vous emporter dans un voyage musical captivant\, depuis la Renaissance jusqu’à nos jours. Interprétées avec brio par de jeunes voix célestes\, des œuvres sacrées et profanes écrites par des compositeurs et compositrices de tous horizons raviront vos oreilles lors du ce concert de clôture ! Entre découvertes et émotions\, vivez avec Cantus Firmus l’apothéose de cette 4e édition du Festival Lettres en Voix !
URL:https://cantusfirmus.be/agenda/festival-lettres-en-voix-concert-de-cloture-across-the-world/
LOCATION:Eglise Notre-Dame du Sablon\, Bruxelles\, Belgium
ATTACH;FMTTYPE=image/jpeg:https://cantusfirmus.be/wp-content/uploads/2024/11/CF-231008-Festival-Lettre-sen-Voix-Affiche.jpg
END:VEVENT
BEGIN:VEVENT
DTSTART;TZID=Europe/Brussels:20230709T110000
DTEND;TZID=Europe/Brussels:20230709T120000
DTSTAMP:20260421T135507
CREATED:20241103T155208Z
LAST-MODIFIED:20241103T155336Z
UID:1300-1688900400-1688904000@cantusfirmus.be
SUMMARY:Messe des artistes - Cathédrale de Bruxelles
DESCRIPTION:Une nouvelle fois\, Ars in Cathedrali invite Cantus Firmus lors de sa série d’été de Messes des artistes. \nCantus Firmus propose la Missa Brevis op.63 de Benjamin Britten. Véritable chef-d’oeuvre choral pour voix égales et orgue\, Cantus Firmus aura l’immense joie de la chanter accompagné aux grandes orgues par Maria Vekilova.
URL:https://cantusfirmus.be/agenda/messe-des-artistes-cathedrale-de-bruxelles/
LOCATION:Cathédrale des SS Michel et Gudule de Bruxelles\, Parvis Ste-Gudule\, Bruxelles\, 1000\, Belgium
ATTACH;FMTTYPE=image/jpeg:https://cantusfirmus.be/wp-content/uploads/2024/11/CANTUS-FIRMUS-photo-scaled.jpg
END:VEVENT
BEGIN:VEVENT
DTSTART;VALUE=DATE:20230518
DTEND;VALUE=DATE:20230522
DTSTAMP:20260421T135507
CREATED:20241103T160522Z
LAST-MODIFIED:20241103T160522Z
UID:1304-1684368000-1684713599@cantusfirmus.be
SUMMARY:International Choral Festival - CANTARODE - Netherlands
DESCRIPTION:Sélectionné parmi 12 autres choeurs\, Cantus Firmus aura la joie de défendre ses couleurs et son répertoire lors de l’International Choral Festival – CANTRODE aux Pays-Bas du 18 au 21 mai 2023. \nAu programme: deux rounds de compétition où nous présenterons deux programmes de 25 minutes chacun. 2 concerts. Deux cérémonies réunissant l’ensemble des choeurs issus du monde entier. Des rencontres. Des découvertes. De l’adrénaline. De la joie.
URL:https://cantusfirmus.be/agenda/international-choral-festival-cantarode-netherlands/
LOCATION:Kerkrade\, Theaterplein 30\, Kerkrade\, Netherlands
ATTACH;FMTTYPE=image/jpeg:https://cantusfirmus.be/wp-content/uploads/2024/11/CF-Cantarode-logo.jpg
END:VEVENT
BEGIN:VEVENT
DTSTART;TZID=Europe/Brussels:20230423T170000
DTEND;TZID=Europe/Brussels:20230423T183000
DTSTAMP:20260421T135507
CREATED:20241103T154327Z
LAST-MODIFIED:20241103T154327Z
UID:1295-1682269200-1682274600@cantusfirmus.be
SUMMARY:Northern Lights - Concert à Leuze
DESCRIPTION:L’association Leuze en Musique\, Culture et Patrimoine invite Cantus Firmus pour un programme de musique chorale pour choeur de femmes a cappella et avec piano. L’ensemble vocal présente un programme inédit balayant 5 siècles de musique\, jouant sur les ambiances sonores et des mises en espaces mettant les voix en valeur et amenant le public au coeur du son.
URL:https://cantusfirmus.be/agenda/northern-lights-concert-a-leuze/
LOCATION:Eglise St-Martin de Leuze\, route de Namêche\, Leuze\, Belgium
ATTACH;FMTTYPE=image/jpeg:https://cantusfirmus.be/wp-content/uploads/2023/04/CF_Saint-Martin-de-Leuze_23.04.2023.jpg
END:VEVENT
BEGIN:VEVENT
DTSTART;TZID=Europe/Brussels:20221227T200000
DTEND;TZID=Europe/Brussels:20221227T213000
DTSTAMP:20260421T135507
CREATED:20241103T142619Z
LAST-MODIFIED:20241103T142619Z
UID:1269-1672171200-1672176600@cantusfirmus.be
SUMMARY:"Ceremony of Carols - BRITTEN" - concert de Noël de la cathédrale de Bruxelles
DESCRIPTION:Invité par Ars in Cathedrali\, Cantus Firmus est heureux de venir présenter les Ceremony of Carols de Benjamin Britten. Cette oeuvre oh combien représentative du temps de Noël\, est écrite pour choeur à voix égales et harpe. Britten nous emmène avec tendresse et poésie dans des mélodies de Noël anglais ancien\, en les plongeant dans son langage si reconnaissable. \nPour ce concert\, Cantus Firmus a l’immense joie d’accueillir Elise Gäbele comme soliste et Alisée Frippiat à la harpe. Maria Vekilova complétera ce programme aux grandes orgues avec les Variations canoniques de J-SBach. \nFêtons ensemble la joie de Noël.
URL:https://cantusfirmus.be/agenda/ceremony-of-carols-britten-concert-de-noel-de-la-cathedrale-de-bruxelles/
LOCATION:Cathédrale des SS Michel et Gudule de Bruxelles\, Parvis Ste-Gudule\, Bruxelles\, 1000\, Belgium
ATTACH;FMTTYPE=image/png:https://cantusfirmus.be/wp-content/uploads/2022/12/Affiche_ConcertNoel2022.png
END:VEVENT
BEGIN:VEVENT
DTSTART;TZID=Europe/Brussels:20221211T170000
DTEND;TZID=Europe/Brussels:20221211T183000
DTSTAMP:20260421T135507
CREATED:20241103T150050Z
LAST-MODIFIED:20241103T150050Z
UID:1286-1670778000-1670783400@cantusfirmus.be
SUMMARY:Concert de Noël - Concert à St-Denis (Forest)
DESCRIPTION:Dans le cadre des Concerts à St-Denis (Forest)\, Cantus Firmus vient présenter les Ceremony of Carols de Benjamin Britten. Accomagné par à la harpe sa fidèle acolyte\, Alisée Frippiat. Pour compléter le programme\, l’ensemble chantera une sélection de magnifiques motets a cappella de la Renaissance à nos jours.
URL:https://cantusfirmus.be/agenda/concert-de-noel-concert-a-st-denis-forest/
LOCATION:Abbaye de Forest\, Chaussée de Bruxelles\, 26\, Forest\, 1190\, Belgium
ATTACH;FMTTYPE=image/jpeg:https://cantusfirmus.be/wp-content/uploads/2023/04/CF-11-decembre-2022.jpg
END:VEVENT
BEGIN:VEVENT
DTSTART;TZID=Europe/Brussels:20221001T150000
DTEND;TZID=Europe/Brussels:20221001T163000
DTSTAMP:20260421T135507
CREATED:20241103T153445Z
LAST-MODIFIED:20241103T153445Z
UID:1289-1664636400-1664641800@cantusfirmus.be
SUMMARY:Festival César Franck - Bruxelles
DESCRIPTION:Pour fêter le 200ème anniversaire de la naissance de César Franck\, Brussels – city of organs\, souhaitait proposer l’intégrale de sa musique pour choeur de femmes et piano. Pour l’occasion\, Cantus Firmus se plonge dans son oeuvre et présente les 6 duos FWV 89 ainsi que le trio Sourire de Mai. Les choristes auront la joie d’être accompagnées au piano par l’excellent Pierre Feraux. Venez découvrir ce bijou choral.
URL:https://cantusfirmus.be/agenda/festival-cesar-franck-bruxelles/
LOCATION:Eglise St-Jean-Baptiste au Béguinage\, Bruxelles\, Place du Béguinage 2062\, Bruxelles\, 1000\, Belgium
ATTACH;FMTTYPE=image/jpeg:https://cantusfirmus.be/wp-content/uploads/2024/11/Festival-franck-affiche.jpg
END:VEVENT
BEGIN:VEVENT
DTSTART;TZID=Europe/Brussels:20220507T150000
DTEND;TZID=Europe/Brussels:20220507T163000
DTSTAMP:20260421T135507
CREATED:20241103T144628Z
LAST-MODIFIED:20241103T144628Z
UID:1282-1651935600-1651941000@cantusfirmus.be
SUMMARY:Chœurs au cœur de l’Abbaye - Festival choral de l'Abbaye de Forest
DESCRIPTION:Northern Lights – Musique chorale a cappella des XX et XXIèmes siècles \nInvité par le Festival Choral de l’Abbaye de Forest\, Cantus Firmus propose un programme exclusivement de musique chorale a cappella de compositeurs contemporains des XX et XXIèmes siècles. Les choristes aiment à jouer avec les atmosphères sonores et spatiales et emmènent le public dans un voyage hors du temps. Frissons garantis.
URL:https://cantusfirmus.be/agenda/choeurs-au-coeur-de-labbaye-festival-choral-de-labbaye-de-forest/
LOCATION:Abbaye de Forest\, Chaussée de Bruxelles\, 26\, Forest\, 1190\, Belgium
ATTACH;FMTTYPE=image/jpeg:https://cantusfirmus.be/wp-content/uploads/2023/04/vqZkx9Qo-scaled.jpeg
END:VEVENT
BEGIN:VEVENT
DTSTART;TZID=Europe/Brussels:20211219T170000
DTEND;TZID=Europe/Brussels:20211219T183000
DTSTAMP:20260421T135507
CREATED:20241103T143308Z
LAST-MODIFIED:20241103T143308Z
UID:1274-1639933200-1639938600@cantusfirmus.be
SUMMARY:Concert de Noël - Cantus
DESCRIPTION:Les trois choeurs\, Cantus Initialis (choeur d’enfants)\, Cantus Medius (choeur ados) et Cantus Firmus (ensemble vocal féminin) s’unissent pour vous offrir un concert de Noël réunissant pas moins de 90 choristes. \nAu programme: magnifique musique\, voix d’anges\, émotions garanties
URL:https://cantusfirmus.be/agenda/concert-de-noel-cantus/
LOCATION:Eglise Ste-Alix de Woluwe-St-Pierre
ATTACH;FMTTYPE=image/jpeg:https://cantusfirmus.be/wp-content/uploads/2024/11/48426469_10156567674847798_2629758722439643136_o.jpg
END:VEVENT
BEGIN:VEVENT
DTSTART;TZID=Europe/Brussels:20210815T110000
DTEND;TZID=Europe/Brussels:20210815T120000
DTSTAMP:20260421T135507
CREATED:20241103T143845Z
LAST-MODIFIED:20241103T143845Z
UID:1279-1629025200-1629028800@cantusfirmus.be
SUMMARY:Messe de l'Assomption - Cathédrale de Bruxelles
DESCRIPTION:Pour célébrer l’Assomption\, Cantus Firmus\, ensemble vocal féminin est invité par Ars in Cathedrali pour offrir un programme où leurs voix célèbrent la Vierge Marie. \nAu programme: la messe de Joseph Rheinberger et deux motets a cappella de musique XXIème. A l’orgue: Bart Jacobs
URL:https://cantusfirmus.be/agenda/messe-de-lassomption-cathedrale-de-bruxelles/
LOCATION:Cathédrale des SS Michel et Gudule de Bruxelles\, Parvis Ste-Gudule\, Bruxelles\, 1000\, Belgium
ATTACH;FMTTYPE=image/jpeg:https://cantusfirmus.be/wp-content/uploads/2024/11/IMG_20200830_173912-scaled.jpg
END:VEVENT
END:VCALENDAR